Workbook
Name 安全関係: 【様式3】記載例!$G$24:$G$27
Name 安全関係: 【様式3】写真!$G$24:$G$27
Name 営繕関係: 【様式3】記載例!$G$19:$G$23
Name 営繕関係: 【様式3】写真!$G$19:$G$23
Name 仮設備関係: 【様式3】記載例!$G$15:$G$18
Name 仮設備関係: 【様式3】写真!$G$15:$G$18
Name 地域連携: 【様式3】記載例!$G$28:$G$31
Name 地域連携: 【様式3】写真!$G$28:$G$31
Name 熱中症対策・防寒対策: 【様式3】記載例!$G$32:$G$33
Name 熱中症対策・防寒対策: 【様式3】写真!$G$32:$G$33

Sheet 【様式1】計画書
B1: 【様式１】
B2: 現場環境改善費に関する実施計画書
B3: 工事番号
B4: 工事名
B5: 受注者名
B6: 実施の有無 | D6: ＜率分＞ ＜積上＞
B8: 現場環境改善費＜率分＞
B9: 計上費目 | C9: 実 施 す る 項 目 | E9: 具体的な現場環境改善の実施内容
B10: 仮設備 関係 | D10: 昇降設備の充実 | I10: ●工事着手前【様式1】
D11: 環境対策の充実 | I11: ①黄色セルに必要事項の入力
D12: ICT設備の充実 | I12: ②＜率分＞実施する項目の"□"にチェックし、実施内容を記載する
D13: 作業負荷の低減 | I13: ③＜積上げ分＞実施する内容、工事費、実施内容を記載する
B14: 営繕関係 | D14: 現場事務所の快適化 （女性用更衣室の設置を含む） | I14: ①【様式2】で実施した項目を確認（【様式1】作成後に自動生成）
D15: 労働宿舎の快適化 | I15: ②【様式3】に実施した内容を報告（写真の挿入）
D16: 現場休憩所の快適化 （交通誘導警備員待機室を含む）
D17: 衛生設備・厚生施設の充実等
D18: 現場事務所等への木材利用
B19: 安全関係 | D19: 工事標識・照明等安全施設の充実
D20: 盗難防止対策
D21: 健康関連施設の充実
D22: 野生生物・害虫対策等
B23: 地域連携 | D23: 広報活動等（完成予想図、パンフレット、工法説明、PR看板等）
D24: 見学会・イベント等の開催 （見学施設等設置・管理運営等含む）
D25: 社会貢献・地域対策費等 （地域行事等の経費含む）
D26: 現場景観向上 （美装化・デザイン看板等）
B27: ① 各計上費目（現場環境改善のうち仮設備関係、営繕関係、安全関係及び地域連携）ごとに１項目ずつの 合計４つの項目を実施することを原則とする。
B28: ② 計画した内容については実施する項目の「□」へチェックすること。
B29: ③ 計画した現場環境改善の具体的な計画を記載すること。
B31: 現場環境改善費＜積上げ分＞
B32: 計上費目 | C32: 実 施 す る 内 容 | E32: 工事費 （円） | F32: 具体的な現場環境改善の実施内容
F33: (費用の根拠)
B34: 安全関係 (熱中症対策・防寒対策）
B58: 合 計 | E58: =SUM(E34:E57) -> 0
B59: ① 実施する内容、工事費、計画した現場環境改善の具体的な計画を記載のこと。
B60: ② 現場環境改善費＜積み上げ分＞に関する費用については、当該現場における対策であると証明できる書類（取引伝票や見積書等） を添付し、提出すること。
B61: ③ 積み上げ計上する額は、工事における現場環境改善費の実施要領の第４条２イで示す算出式による現場環境改善費の率分で計上される額の100％を上限とする。 なお、リース品の場合は、当該工事のおける施設・設備の設置期間分のリース費用とする。 購入品の場合は、当該工事における施設・設備の設置期間分の減価償却費を計上する。 ※購入品の計上価格＝(購入価格)×(設置期間)／(耐用年数)／365日 ※小数点以下切り捨て
B62: ④ 熱中症対策・防寒対策に関する費用については、主に現場の施設や設備に関する費用とし、現場管理費に計上される作業員個人の費用と重複がないよう留意する。
B63: ＜設計変更の対象とする熱中症対策・防寒対策に係る費用（例）＞
B64: 主に現場の施設や設備に対する熱中症対策費用。
B65: 例）・遮光ネット ・大型扇風機 ・送風機 ・製氷機 ・ミストファン 等
B66: ＜設計変更の対象とならない熱中症対策・防寒対策に係る費用（例）＞
B67: 主に作業員個人に対する熱中症対策費用。
B68: 例）・空調服 ・経口補水液等飲料 ・塩飴 ・熱中症対策キット 等

Sheet 【様式2】報告書
B1: 【様式２】
B2: 現場環境改善費に関する実施報告書
B3: 工事番号 | C3: =【様式1】計画書!$C$3 -> 0
B4: 工事名 | C4: =【様式1】計画書!$C$4 -> 0
B5: 受注者名 | C5: =【様式1】計画書!$C$5 -> 0
B7: 現場環境改善費＜率分＞
B8: 計上費目 | C8: 実 施 す る 内 容
B9: 仮設備関係 | D9: 昇降設備の充実 | G9: FALSE
D10: 環境対策の充実 | G10: FALSE
D11: ICT設備の充実 | G11: FALSE
D12: 作業負荷の低減 | G12: FALSE
B13: 営繕関係 | D13: 現場事務所の快適化 （女性用更衣室の設置を含む） | G13: FALSE
D14: 労働宿舎の充実 | G14: FALSE
D15: 現場休憩所の充実 （交通誘導警備員待機室を含む） | G15: FALSE
D16: 衛生設備・厚生施設の充実等 | G16: FALSE
D17: 現場事務所等への木材利用 | G17: FALSE
B18: 安全関係 | D18: 工事標識・照明等安全施設の充実 | G18: FALSE
D19: 盗難防止対策
D20: 健康関連施設の充実
D21: 野生生物・害虫対策等 | G21: FALSE
B22: 地域連携 | D22: 広報活動等（完成予想図、パンフレット、工法説明、PR看板等） | G22: FALSE
D23: 見学会・イベント等の開催 （見学施設等設置・管理運営等含む） | G23: FALSE
D24: 社会貢献・地域対策費等 （地域行事等の経費含む） | G24: FALSE
D25: 現場景観向上 （美装化・デザイン看板等） | G25: FALSE
B26: ① 各計上費目（現場環境改善のうち仮設備関係、営繕関係、安全関係及び地域連携）ごとに１項目ずつの合計４つの項目を実施することを原則とする。
B27: ② 計画した内容については実施する項目の「□」へチェックすること。
B28: ③ 実施状況がわかる写真を添付すること。【様式３】
B30: 現場環境改善費＜積み上げ分＞
B31: 計上費目 | C31: 実 施 す る 内 容
B32: 安全関係 (熱中症対策 ・防寒対策） | C32: =【様式1】計画書!C34 -> 0
C33: =【様式1】計画書!C37 -> 0
C34: =【様式1】計画書!C40 -> 0
C35: =【様式1】計画書!C43 -> 0
C36: =【様式1】計画書!C46 -> 0
C37: =【様式1】計画書!C49 -> 0
C38: =【様式1】計画書!C52 -> 0
C39: =【様式1】計画書!C55 -> 0
B40: ① 実施状況がわかる写真を添付すること。【様式３】

Sheet 【様式3】写真
B1: 【様式３】
B2: 現場環境改善費に関する実施状況写真
B4: 実施した内容を記載すること。 | G4: 計上品目
B5: 写真 | C5: 写真番号 | D5: 1 | G5: 仮設備関係
C6: 計上費目名 | D6: 熱中症対策・防寒対策 | G6: 営繕関係
C7: 実施内容 | G7: 安全関係
C8: 【 説 明 】 | G8: 地域連携
G9: 熱中症対策・防寒対策
G14: 実施内容
B15: 写真 | C15: 写真番号 | D15: 2 | F15: 仮設備関係 | G15: 昇降設備の充実
C16: 計上費目名 | D16: 安全関係 | G16: 環境負荷の低減
C17: 実施内容 | G17: ICT設備の充実
C18: 【 説 明 】 | G18: 作業不可の低減
F19: 営繕関係 | G19: 現場事務所の快適化
G20: 労働宿舎の快適化
G21: 現場休憩所の快適化
G22: 衛生設備・厚生施設の充実等
G23: 現場事務所等への木材利用
F24: 安全関係 | G24: 工事標識・照明等安全施設の充実
B25: 写真 | C25: 写真番号 | D25: 3 | G25: 盗難防止対策
C26: 計上費目名 | G26: 健康関連施設の充実
C27: 実施内容 | G27: 野生生物・害虫対策等
C28: 【 説 明 】 | F28: 地域連携 | G28: 広報活動等
G29: 見学会・イベント等の開催
G30: 社会貢献・地域対策費等
G31: 現場景観向上
G32: 熱中症対策
G33: 防寒対策
B35: 【様式３】
B36: 現場環境改善費に関する実施状況写真
B38: 写真 | C38: 写真番号 | D38: 4
C39: 計上費目名
C40: 実施内容
C41: 【 説 明 】
B48: 写真 | C48: 写真番号 | D48: 5
C49: 計上費目名
C50: 実施内容
C51: 【 説 明 】
B58: 写真 | C58: 写真番号 | D58: 6
C59: 計上費目名
C60: 実施内容
C61: 【 説 明 】
B68: 【様式３】
B69: 現場環境改善費に関する実施状況写真
B71: 写真 | C71: 写真番号 | D71: 7
C72: 計上費目名
C73: 実施内容
C74: 【 説 明 】
B81: 写真 | C81: 写真番号 | D81: 8
C82: 計上費目名
C83: 実施内容
C84: 【 説 明 】
B91: 写真 | C91: 写真番号 | D91: 9
C92: 計上費目名
C93: 実施内容
C94: 【 説 明 】
B101: 【様式３】
B102: 現場環境改善費に関する実施状況写真
B104: 写真 | C104: 写真番号 | D104: 10
C105: 計上費目名
C106: 実施内容
C107: 【 説 明 】
B114: 写真 | C114: 写真番号 | D114: 11
C115: 計上費目名
C116: 実施内容
C117: 【 説 明 】
B124: 写真 | C124: 写真番号 | D124: 12
C125: 計上費目名
C126: 実施内容
C127: 【 説 明 】

Sheet 【様式1】記載例
B1: 【様式１】
B2: 現場環境改善費に関する実施計画書
B3: 工事番号
B4: 工事名
B5: 受注者名
B6: 実施の有無 | D6: ＜率分＞ ＜積上＞
B8: 現場環境改善費＜率分＞
B9: 計上費目 | C9: 実 施 す る 項 目 | E9: 具体的な現場環境改善の実施内容
B10: 仮設備 関係 | D10: 昇降設備の充実 | I10: ●工事着手前【様式1】
D11: 環境対策の充実 | I11: ①黄色セルに必要事項の入力
D12: ICT設備の充実 | I12: ②＜率分＞実施する項目の"□"にチェックし、実施内容を記載する
D13: 作業負荷の低減 | I13: ③＜積上げ分＞実施する内容、工事費、実施内容を記載する
B14: 営繕関係 | D14: 現場事務所の快適化 （女性用更衣室の設置を含む） | E14: (実施内容)現場事務所にエアコンの設置 (実施期間)工事着手時から完成まで[約200日間] | I14: ①【様式2】で実施した項目を確認（【様式1】作成後に自動生成）
D15: 労働宿舎の快適化 | I15: ②【様式3】に実施した内容を報告（写真の挿入）
D16: 現場休憩所の快適化 （交通誘導警備員待機室を含む）
D17: 衛生設備・厚生施設の充実等
D18: 現場事務所等への木材利用
B19: 安全関係 | D19: 工事標識・照明等安全施設の充実 | E19: (実施内容)規制車両搭載式電光板の設置 (実施期間)工事着手時から完成まで[約200日間]
D20: 盗難防止対策
D21: 健康関連施設の充実
D22: 野生生物・害虫対策等
B23: 地域連携 | D23: 広報活動等（完成予想図、パンフレット、工法説明、PR看板等）
D24: 見学会・イベント等の開催 （見学施設等設置・管理運営等含む）
D25: 社会貢献・地域対策費等 （地域行事等の経費含む） | E25: (実施内容)地域の除草作業へ参加 (実施期間)工事着手時から完成までの間で[約2日間]
D26: 現場景観向上 （美装化・デザイン看板等）
B27: ① 各計上費目（現場環境改善のうち仮設備関係、営繕関係、安全関係及び地域連携）ごとに１項目ずつの 合計４つの項目を実施することを原則とする。
B28: ② 計画した内容については実施する項目の「□」へチェックすること。
B29: ③ 計画した現場環境改善の具体的な計画を記載すること。
B31: 現場環境改善費＜積上げ分＞
B32: 計上費目 | C32: 実 施 す る 内 容 | E32: 工事費 （円） | F32: 具体的な現場環境改善の実施内容
F33: (費用の根拠)
B34: 安全関係 (熱中症対策・防寒対策）
B58: 合 計 | E58: =SUM(E34:E57) -> 0
B59: ① 実施する内容、工事費、計画した現場環境改善の具体的な計画を記載のこと。
B60: ② 現場環境改善費＜積み上げ分＞に関する費用については、当該現場における対策であると証明できる書類（取引伝票や見積書等） を添付し、提出すること。
B61: ③ 積み上げ計上する額は、工事における現場環境改善費の実施要領の第４条２イで示す算出式による現場環境改善費の率分で計上される額の100％を上限とする。 なお、リース品の場合は、当該工事のおける施設・設備の設置期間分のリース費用とする。 購入品の場合は、当該工事における施設・設備の設置期間分の減価償却費を計上する。 ※購入品の計上価格＝(購入価格)×(設置期間)／(耐用年数)／365日 ※小数点以下切り捨て
B62: ④ 熱中症対策・防寒対策に関する費用については、主に現場の施設や設備に関する費用とし、現場管理費に計上される作業員個人の費用と重複がないよう留意する。
B63: ＜設計変更の対象とする熱中症対策・防寒対策に係る費用（例）＞
B64: 主に現場の施設や設備に対する熱中症対策費用。
B65: 例）・遮光ネット ・大型扇風機 ・送風機 ・製氷機 ・ミストファン 等
B66: ＜設計変更の対象とならない熱中症対策・防寒対策に係る費用（例）＞
B67: 主に作業員個人に対する熱中症対策費用。
B68: 例）・空調服 ・経口補水液等飲料 ・塩飴 ・熱中症対策キット 等

Sheet 【様式2】記載例
B1: 【様式２】
B2: 現場環境改善費に関する実施報告書
B3: 工事番号 | C3: =【様式1】記載例!$C$3 -> 0
B4: 工事名 | C4: =【様式1】記載例!$C$4 -> 0
B5: 受注者名 | C5: =【様式1】記載例!$C$5 -> 0
B7: 現場環境改善費＜率分＞
B8: 計上費目 | C8: 実 施 す る 内 容
B9: 仮設備関係 | D9: 昇降設備の充実 | G9: FALSE
D10: 環境対策の充実 | G10: FALSE
D11: ICT設備の充実 | G11: FALSE
D12: 作業負荷の低減 | G12: FALSE
B13: 営繕関係 | D13: 現場事務所の快適化 （女性用更衣室の設置を含む） | G13: FALSE
D14: 労働宿舎の快適化 | G14: FALSE
D15: 現場休憩所の快適化 （交通誘導警備員待機室を含む） | G15: FALSE
D16: 衛生設備・厚生施設の充実等 | G16: FALSE
D17: 現場事務所等への木材利用 | G17: FALSE
B18: 安全関係 | D18: 工事標識・照明等安全施設の充実 | G18: FALSE
D19: 盗難防止対策
D20: 健康関連施設の充実
D21: 野生生物・害虫対策等 | G21: FALSE
B22: 地域連携 | D22: 広報活動等（完成予想図、パンフレット、工法説明、PR看板等） | G22: FALSE
D23: 見学会・イベント等の開催 （見学施設等設置・管理運営等含む） | G23: FALSE
D24: 社会貢献・地域対策費等 （地域行事等の経費含む） | G24: FALSE
D25: 現場景観向上 （美装化・デザイン看板等） | G25: FALSE
B26: ① 各計上費目（現場環境改善のうち仮設備関係、営繕関係、安全関係及び地域連携）ごとに１項目ずつの合計４つの項目を実施することを原則とする。
B27: ② 計画した内容については実施する項目の「□」へチェックすること。
B28: ③ 実施状況がわかる写真を添付すること。【様式３】
B30: 現場環境改善費＜積み上げ分＞
B31: 計上費目 | C31: 実 施 す る 内 容
B32: 安全関係 (熱中症対策 ・防寒対策） | C32: =【様式1】記載例!C34 -> 0
C33: =【様式1】記載例!C37 -> 0
C34: =【様式1】記載例!C40 -> 0
C35: =【様式1】記載例!C43 -> 0
C36: =【様式1】記載例!C46 -> 0
C37: =【様式1】記載例!C49 -> 0
C38: =【様式1】記載例!C52 -> 0
C39: =【様式1】記載例!C55 -> 0
B40: ① 実施状況がわかる写真を添付すること。【様式３】

Sheet 【様式3】記載例
B1: 【様式３】
B2: 現場環境改善費に関する実施状況写真
B4: 実施した内容を記載すること。 | G4: 計上品目
B5: 写真 | C5: 写真番号 | D5: 1 | G5: 仮設備関係
C6: 計上費目名 | D6: 地域連携 | G6: 営繕関係
C7: 実施内容 | G7: 安全関係
C8: 【 説 明 】 | G8: 地域連携
G9: 熱中症対策・防寒対策
G14: 実施内容
B15: 写真 | C15: 写真番号 | D15: 2 | F15: 仮設備関係 | G15: 昇降設備の充実
C16: 計上費目名 | D16: 営繕関係 | G16: 環境負荷の低減
C17: 実施内容 | D17: 現場事務所の快適化 | G17: ICT設備の充実
C18: 【 説 明 】 | G18: 作業不可の低減
C19: 現場事務所にエアコンを設置 | F19: 営繕関係 | G19: 現場事務所の快適化
G20: 労働宿舎の快適化
G21: 現場休憩所の快適化
G22: 衛生設備・厚生施設の充実等
G23: 現場事務所等への木材利用
F24: 安全関係 | G24: 工事標識・照明等安全施設の充実
B25: 写真 | C25: 写真番号 | D25: 3 | G25: 盗難防止対策
C26: 計上費目名 | D26: 安全関係 | G26: 健康関連施設の充実
C27: 実施内容 | D27: 工事標識・照明等安全施設の充実 | G27: 野生生物・害虫対策等
C28: 【 説 明 】 | F28: 地域連携 | G28: 広報活動等
C29: 規制車両搭載式電光板の設置 | G29: 見学会・イベント等の開催
G30: 社会貢献・地域対策費等
G31: 現場景観向上
G32: 熱中症対策
G33: 防寒対策
B35: 【様式３】
B36: 現場環境改善費に関する実施状況写真
B38: 写真 | C38: 写真番号 | D38: 4
C39: 計上費目名 | D39: 地域連携
C40: 実施内容 | D40: 社会貢献・地域対策費等
C41: 【 説 明 】
C42: 地域の除草作業へ参加
B48: 写真 | C48: 写真番号 | D48: 5
C49: 計上費目名
C50: 実施内容
C51: 【 説 明 】
B58: 写真 | C58: 写真番号 | D58: 6
C59: 計上費目名
C60: 実施内容
C61: 【 説 明 】
B68: 【様式３】
B69: 現場環境改善費に関する実施状況写真
B71: 写真 | C71: 写真番号 | D71: 7
C72: 計上費目名
C73: 実施内容
C74: 【 説 明 】
B81: 写真 | C81: 写真番号 | D81: 8
C82: 計上費目名
C83: 実施内容
C84: 【 説 明 】
B91: 写真 | C91: 写真番号 | D91: 9
C92: 計上費目名
C93: 実施内容
C94: 【 説 明 】
B101: 【様式３】
B102: 現場環境改善費に関する実施状況写真
B104: 写真 | C104: 写真番号 | D104: 10
C105: 計上費目名
C106: 実施内容
C107: 【 説 明 】
B114: 写真 | C114: 写真番号 | D114: 11
C115: 計上費目名
C116: 実施内容
C117: 【 説 明 】
B124: 写真 | C124: 写真番号 | D124: 12
C125: 計上費目名
C126: 実施内容
C127: 【 説 明 】
