Workbook
Name 安全関係: 【様式3】写真!$G$26:$G$29
Name 営繕関係: 【様式3】写真!$G$21:$G$25
Name 仮設備関係: 【様式3】写真!$G$15:$G$20
Name 地域連携: 【様式3】写真!$G$28:$G$36
Name 熱中症対策・防寒対策: 【様式3】写真!$G$40:$G$41

Sheet 【様式1】内訳書
G2: （様式１）
B3: 運搬費及び準備費の実績変更対象経費に関する内訳書
F5: 年 月 日
B7: 工事番号
B8: 工事名
B9: 受注者
F11: 工種区分 | I11: 発注者入力
B12: 費目 | D12: 費用 | E12: 内容 | G12: 実績額（円） | I12: 共通仮設費（円） | J12: 実績変更対象経費の割合（％） | K12: 率計上額（円） | L12: 積上げ計上額（円）
B13: 共通仮設費 | C13: 運搬費 | D13: 建設機械の運搬費 | E13: 建設機械の運搬等に要する費用 | J13: =IFERROR(HLOOKUP($G$11,実績変更対象経費の割合!$B$2:$J$4,2,FALSE),IFERROR(HLOOKUP($G$11,実績変更対象経費の割合!$B$7:$J$9,2,FALSE),"")) | K13: =I13*J13 -> #VALUE! | L13: =G13-K13 -> #VALUE!
F14: 質量２０ｔ未満の建設機械の搬入搬出に要する費用 | J14: =IFERROR(HLOOKUP($G$11,実績変更対象経費の割合!$B$2:$J$4,2,FALSE),IFERROR(HLOOKUP($G$11,実績変更対象経費の割合!$B$7:$J$9,2,FALSE),"")) | K14: =I14*J14 -> #VALUE! | L14: =G14-K14 -> #VALUE!
F15: 建設機械の自走による運搬に要する費用 | J15: =IFERROR(HLOOKUP($G$11,実績変更対象経費の割合!$B$2:$J$4,2,FALSE),IFERROR(HLOOKUP($G$11,実績変更対象経費の割合!$B$7:$J$9,2,FALSE),"")) | K15: =I15*J15 -> #VALUE! | L15: =G15-K15 -> #VALUE!
F16: 建設機械などの日々回送に要する費用 | J16: =IFERROR(HLOOKUP($G$11,実績変更対象経費の割合!$B$2:$J$4,2,FALSE),IFERROR(HLOOKUP($G$11,実績変更対象経費の割合!$B$7:$J$9,2,FALSE),"")) | K16: =I16*J16 -> #VALUE! | L16: =G16-K16 -> #VALUE!
F17: 建設機械の現場内小運搬に要する費用 | J17: =IFERROR(HLOOKUP($G$11,実績変更対象経費の割合!$B$2:$J$4,2,FALSE),IFERROR(HLOOKUP($G$11,実績変更対象経費の割合!$B$7:$J$9,2,FALSE),"")) | K17: =I17*J17 -> #VALUE! | L17: =G17-K17 -> #VALUE!
C18: 小計 | G18: =SUM(G14:G17) -> 0 | L18: =G18-K18 -> 0
C19: 準備費 | D19: 伐開・除根・除草費 | E19: 準備作業に伴う伐開、除根、除草作業に要する費用 | J19: =IFERROR(HLOOKUP($G$11,実績変更対象経費の割合!$B$2:$J$4,3,FALSE),IFERROR(HLOOKUP($G$11,実績変更対象経費の割合!$B$7:$J$9,3,FALSE),"")) | K19: =I19*J19 -> #VALUE! | L19: =G19-K19 -> #VALUE!
F20: ブルドーザ、レーキドーザ、バックホウ等による雑木や小さな樹木、竹などを除去する伐開に要する費用 （チェーンソー等による伐採作業を除く） | J20: =IFERROR(HLOOKUP($G$11,実績変更対象経費の割合!$B$2:$J$4,3,FALSE),IFERROR(HLOOKUP($G$11,実績変更対象経費の割合!$B$7:$J$9,3,FALSE),"")) | K20: =I20*J20 -> #VALUE! | L20: =G20-K20 -> #VALUE!
F21: 除根、除草、整地、段切り、すりつけ等に要する費用 （伐開、除根及び除草は、現場内の集積・積込み作業を含む） | J21: =IFERROR(HLOOKUP($G$11,実績変更対象経費の割合!$B$2:$J$4,3,FALSE),IFERROR(HLOOKUP($G$11,実績変更対象経費の割合!$B$7:$J$9,3,FALSE),"")) | K21: =I21*J21 -> #VALUE! | L21: =G21-K21 -> #VALUE!
C22: 小計 | G22: =SUM(G20:G21) -> 0 | L22: =G22-K22 -> 0
C23: 合計 | G23: =G18+G22 -> 0
J25: ほ場整備工事 | K25: 農用地造成工事 | L25: 舗装工事 | M25: 道路改良工事 | N25: 水路トンネル工事 | O25: 水路工事 | P25: 排水路工事 | Q25: 河川工事 | R25: 管水路工事 | S25: 管更生工事 | T25: 畑かん施設工事 | U25: 海岸工事 | V25: コンクリート補修工事 | W25: ため池工事 | X25: その他土木工事（1） | Y25: その他土木工事（2） | Z25: フィルダム工事 | AA25: コンクリートダム工事

Sheet 【様式2】作業日報
K1: （様式2）
D3: 作業日報（実績変更対象経費）
D5: 工 事 名 | E5: =【様式1】内訳書!C8 -> 0
D6: 施工年月日 | E6: 令和 年 月 日（ ） | G6: ～ | H6: 令和 年 月 日（ ）
D9: 【建設機械の運搬費】
D10: 運搬機械名（規格・容量等） | F10: 台数 | G10: 積込地点 | I10: 降車地点 | K10: 距離(km)
D16: 【伐開・除根・除草費】
D17: 作業種別 | F17: 使用機械・労務 | H17: 作業範囲（測点等） | J17: 数量(m2)
D22: ※ 備考：特殊な現場条件や待機時間等が発生した場合は、その理由を簡潔に記載すること

Sheet 【様式3】写真
A1: S | B1: 【様式３】
B2: 運搬費及び準備費の実績変更対象経費に関する実施状況写真
B4: 実施した内容を記載すること。 | G4: 計上品目
B5: 写真 | C5: 写真番号 | D5: 1 | G5: 施工前
C6: 題名 | G6: 施工中
C7: 実施内容 | G7: 施工完了
C8: 【 説 明 】
G14: 実施内容
B15: 写真 | C15: 写真番号 | D15: 2
C16: 題名
C17: 実施内容
C18: 【 説 明 】
B25: 写真 | C25: 写真番号 | D25: 3
C26: 題名
C27: 実施内容
C28: 【 説 明 】
B35: 【様式３】
B36: 運搬費及び準備費の実績変更対象経費に関する実施状況写真
B38: 写真 | C38: 写真番号 | D38: 4
C39: 題名
C40: 実施内容
C41: 【 説 明 】
B48: 写真 | C48: 写真番号 | D48: 5
C49: 題名
C50: 実施内容
C51: 【 説 明 】
B58: 写真 | C58: 写真番号 | D58: 6
C59: 題名
C60: 実施内容
C61: 【 説 明 】
B68: 【様式３】
B69: 運搬費及び準備費の実績変更対象経費に関する実施状況写真
B71: 写真 | C71: 写真番号 | D71: 7
C72: 題名
C73: 実施内容
C74: 【 説 明 】
B81: 写真 | C81: 写真番号 | D81: 8
C82: 題名
C83: 実施内容
C84: 【 説 明 】
B91: 写真 | C91: 写真番号 | D91: 9
C92: 題名
C93: 実施内容
C94: 【 説 明 】
B101: 【様式３】
B102: 運搬費及び準備費の実績変更対象経費に関する実施状況写真
B104: 写真 | C104: 写真番号 | D104: 10
C105: 題名
C106: 実施内容
C107: 【 説 明 】
B114: 写真 | C114: 写真番号 | D114: 11
C115: 題名
C116: 実施内容
C117: 【 説 明 】
B124: 写真 | C124: 写真番号 | D124: 12
C125: 題名
C126: 実施内容
C127: 【 説 明 】

Sheet 実績変更対象経費の割合
A2: 工種 | B2: ほ場整備工事 | C2: 農用地造成工事 | D2: 舗装工事 | E2: 道路改良工事 | F2: 水路トンネル工事 | G2: 水路工事 | H2: 排水路工事 | I2: 河川工事 | J2: 管水路工事
A3: 共通仮設費（運搬費（建設機械の運搬に要する費用）） | B3: 0.1955 | C3: 0.1205 | D3: 0.1846 | E3: 0.1243 | F3: 0.1108 | G3: 0.1261 | H3: 0.1076 | I3: 0.1205 | J3: 0.1203
A4: 共通仮設費（準備費（伐開・除根・除草に要する費用）） | B4: 0.0239 | D4: 0.0035 | E4: 0.0141 | F4: 0.0107 | G4: 0.0146 | H4: 0.0039 | I4: 0.0342 | J4: 0.0122
B7: 管更生工事 | C7: 畑かん施設工事 | D7: 海岸工事 | E7: コンクリート補修工事 | F7: ため池工事 | G7: その他土木工事（1） | H7: その他土木工事（2） | I7: フィルダム工事 | J7: コンクリートダム工事
A8: 共通仮設費（運搬費（建設機械の運搬に要する費用）） | B8: 0.1168 | C8: 0.1105 | D8: 0.1673 | E8: 0.0884 | F8: 0.1286 | G8: 0.1454 | H8: 0.2067 | I8: 0.0017 | J8: 0.0045
A9: 共通仮設費（準備費（伐開・除根・除草に要する費用）） | B9: 0.0029 | C9: 0.0056 | D9: 0.0173 | E9: 0.0067 | F9: 0.0302 | G9: 0.0077 | H9: 0.0262

Sheet 【様式1】内訳書 記載例
G2: （様式１）
B3: 運搬費及び準備費の実績変更対象経費に関する内訳書（記載例）
F5: 令和○年○月○日
B7: 工事番号 | C7: ○○－N○○○○－○○－○○－○○
B8: 工事名 | C8: 令和○年度○○○○地区○○○工事
B9: 受注者 | C9: ○○○○
F11: 工種区分 | G11: ほ場整備工事 | I11: 発注者入力
B12: 費目 | D12: 費用 | E12: 内容 | G12: 実績額（円） | I12: 共通仮設費（円） | J12: 実績変更対象経費の割合（％） | K12: 率計上額（円） | L12: 積上げ計上額（円）
B13: 共通仮設費 | C13: 運搬費 | D13: 建設機械の運搬費 | E13: 建設機械の運搬等に要する費用 | J13: =IFERROR(HLOOKUP($G$11,実績変更対象経費の割合!$B$2:$J$4,2,FALSE),IFERROR(HLOOKUP($G$11,実績変更対象経費の割合!$B$7:$J$9,2,FALSE),"")) -> 0.1955 | K13: =I13*J13 -> 0 | L13: =G13-K13 -> 0
F14: 質量２０ｔ未満の建設機械の搬入搬出に要する費用 | J14: =IFERROR(HLOOKUP($G$11,実績変更対象経費の割合!$B$2:$J$4,2,FALSE),IFERROR(HLOOKUP($G$11,実績変更対象経費の割合!$B$7:$J$9,2,FALSE),"")) -> 0.1955 | K14: =I14*J14 -> 0 | L14: =G14-K14 -> 0
F15: 建設機械の自走による運搬に要する費用 | J15: =IFERROR(HLOOKUP($G$11,実績変更対象経費の割合!$B$2:$J$4,2,FALSE),IFERROR(HLOOKUP($G$11,実績変更対象経費の割合!$B$7:$J$9,2,FALSE),"")) -> 0.1955 | K15: =I15*J15 -> 0 | L15: =G15-K15 -> 0
F16: 建設機械などの日々回送に要する費用 | J16: =IFERROR(HLOOKUP($G$11,実績変更対象経費の割合!$B$2:$J$4,2,FALSE),IFERROR(HLOOKUP($G$11,実績変更対象経費の割合!$B$7:$J$9,2,FALSE),"")) -> 0.1955 | K16: =I16*J16 -> 0 | L16: =G16-K16 -> 0
F17: 建設機械の現場内小運搬に要する費用 | G17: 1000000 | J17: =IFERROR(HLOOKUP($G$11,実績変更対象経費の割合!$B$2:$J$4,2,FALSE),IFERROR(HLOOKUP($G$11,実績変更対象経費の割合!$B$7:$J$9,2,FALSE),"")) -> 0.1955 | K17: =I17*J17 -> 0 | L17: =G17-K17 -> 1000000
C18: 小計 | G18: =SUM(G14:G17) -> 1000000 | L18: =G18-K18 -> 1000000
C19: 準備費 | D19: 伐開・除根・除草費 | E19: 準備作業に伴う伐開、除根、除草作業に要する費用 | J19: =IFERROR(HLOOKUP($G$11,実績変更対象経費の割合!$B$2:$J$4,3,FALSE),IFERROR(HLOOKUP($G$11,実績変更対象経費の割合!$B$7:$J$9,3,FALSE),"")) -> 0.0239 | K19: =I19*J19 -> 0 | L19: =G19-K19 -> 0
F20: ブルドーザ、レーキドーザ、バックホウ等による雑木や小さな樹木、竹などを除去する伐開に要する費用 （チェーンソー等による伐採作業を除く） | J20: =IFERROR(HLOOKUP($G$11,実績変更対象経費の割合!$B$2:$J$4,3,FALSE),IFERROR(HLOOKUP($G$11,実績変更対象経費の割合!$B$7:$J$9,3,FALSE),"")) -> 0.0239 | K20: =I20*J20 -> 0 | L20: =G20-K20 -> 0
F21: 除根、除草、整地、段切り、すりつけ等に要する費用 （伐開、除根及び除草は、現場内の集積・積込み作業を含む） | G21: 1000000 | J21: =IFERROR(HLOOKUP($G$11,実績変更対象経費の割合!$B$2:$J$4,3,FALSE),IFERROR(HLOOKUP($G$11,実績変更対象経費の割合!$B$7:$J$9,3,FALSE),"")) -> 0.0239 | K21: =I21*J21 -> 0 | L21: =G21-K21 -> 1000000
C22: 小計 | G22: =SUM(G20:G21) -> 1000000 | L22: =G22-K22 -> 1000000
C23: 合計 | G23: =G18+G22 -> 2000000
J25: ほ場整備工事 | K25: 農用地造成工事 | L25: 舗装工事 | M25: 道路改良工事 | N25: 水路トンネル工事 | O25: 水路工事 | P25: 排水路工事 | Q25: 河川工事 | R25: 管水路工事 | S25: 管更生工事 | T25: 畑かん施設工事 | U25: 海岸工事 | V25: コンクリート補修工事 | W25: ため池工事 | X25: その他土木工事（1） | Y25: その他土木工事（2） | Z25: フィルダム工事 | AA25: コンクリートダム工事

Sheet 【様式2】作業日報 記載例
K1: （様式2）
D3: 作業日報（実績変更対象経費）
D5: 工 事 名 | E5: 令和○年度○○○○地区○○○工事
D6: 施工年月日 | E6: 令和○年○月○日（月） | G6: ～ | H6: 令和○年○月○日（金）
D9: 【建設機械の運搬費】 | P9: あ
D10: 運搬機械名（規格・容量等） | F10: 台数 | G10: 積込地点 | I10: 降車地点 | K10: 距離(km)
D11: （例）バックホウ 0.8m3 | F11: 1 | G11: 〇〇機材センター | I11: 〇〇工事現場内 | K11: 25㎞
D16: 【伐開・除根・除草費】
D17: 作業種別 | F17: 使用機械・労務 | H17: 作業範囲（測点等） | J17: 数量(m2)
D18: （例）除草・処分 | F18: 草刈機・特殊作業員 | H18: No.10 ～ No.15 付近 | J18: 450 m2
D22: ※ 備考：特殊な現場条件や待機時間等が発生した場合は、その理由を簡潔に記載すること
